BEGIN:VCALENDAR
VERSION:2.0
PRODID:-//The House of God Church of Indianapolis - ECPv4.4.1.1//NONSGML v1.0//EN
CALSCALE:GREGORIAN
METHOD:PUBLISH
X-WR-CALNAME:The House of God Church of Indianapolis
X-ORIGINAL-URL:http://www.hogindy.org
X-WR-CALDESC:Events for The House of God Church of Indianapolis
BEGIN:VEVENT
DTSTART;TZID=America/Indiana/Indianapolis:20181231T120000
DTEND;TZID=America/Indiana/Indianapolis:20181231T130000
DTSTAMP:20260425T145149
CREATED:20181231T011140Z
LAST-MODIFIED:20181231T013131Z
UID:9371-1546257600-1546261200@www.hogindy.org
SUMMARY:New Year's Eve Service
DESCRIPTION:The New Year's Eve Service details. Corporate prayer at December 31st at 11:30pm. Call details on flyer.\n\n
URL:http://www.hogindy.org/event/new-years-eve-service/
ATTACH;FMTTYPE=image/jpeg:http://www.hogindy.org/wp-content/uploads/2018/12/HOGC-Indy-WatchNight.jpg
END:VEVENT
END:VCALENDAR